BEGIN:VCALENDAR
VERSION:2.0
PRODID:-//Afromeals - ECPv6.15.11//NONSGML v1.0//EN
CALSCALE:GREGORIAN
METHOD:PUBLISH
X-ORIGINAL-URL:https://afromeals.com
X-WR-CALDESC:Events for Afromeals
REFRESH-INTERVAL;VALUE=DURATION:PT1H
X-Robots-Tag:noindex
X-PUBLISHED-TTL:PT1H
BEGIN:VTIMEZONE
TZID:UTC
BEGIN:STANDARD
TZOFFSETFROM:+0000
TZOFFSETTO:+0000
TZNAME:UTC
DTSTART:20220101T000000
END:STANDARD
END:VTIMEZONE
BEGIN:VEVENT
DTSTART;TZID=UTC:20230201T100000
DTEND;TZID=UTC:20230201T140000
DTSTAMP:20260422T090601
CREATED:20201202T073429Z
LAST-MODIFIED:20230104T200155Z
UID:2993-1675245600-1675260000@afromeals.com
SUMMARY:Private Event with Miami Valley Meals (Delotelle)
DESCRIPTION:Corporate\, Couples\, Families and friend party online or in class! Travel to another country with your loved ones by coming together online or in person\, to cook an amazing meal together. You may not be in the same place together but you can jump online to cook and have fun together. You also have a choice of coming to our location in Cincinnati with your group to cook amazing and delicious meals. Private event date night is an in class or an online cooking class designed just for you and your family (friends). \nYou get to speak with one of our team members to pick a menu that you and your party  will cook. You will meet our chef online through zoom\, where you would be taught how to cook amazing foods with ease and also have Fun. Recipes and ingredients would be sent to you through email a week to the event. This would be a an hour and a half class. \nEmail us at Afromeals@gmail.com or call us at 513-783-1955 to book the time and date that suits you and your group! In class price $75 minimum of 6 and maximum of 14 individuals to book for the class! Online class $30 minimum of 6 and a maximum of 50 individuals to book the class! You pick the menu and book a time with us and we set you up for your awesome occasion. \nNotable Clients: Procter and Gamble\, Fifth Third Bank\, BHDP Architecture\, Karen Wellington Foundation\, Wright-Patterson Officers’ Spouses’ Club \nTerms and Condition    \n\n\n\n\n\n\n\n\n\n 
URL:https://afromeals.com/event/family-and-friends-online-cooking-class/
LOCATION:Your Kitchen
CATEGORIES:cooking class,Cooking Classes,Date night,Kids classes,kids cooking class,Private event,summer camp
ATTACH;FMTTYPE=image/jpeg:https://afromeals.com/wp-content/uploads/2022/02/IMG_4465.jpeg
END:VEVENT
END:VCALENDAR