BEGIN:VCALENDAR
VERSION:2.0
PRODID:-//Afromeals - ECPv6.15.11//NONSGML v1.0//EN
CALSCALE:GREGORIAN
METHOD:PUBLISH
X-WR-CALNAME:Afromeals
X-ORIGINAL-URL:https://afromeals.com
X-WR-CALDESC:Events for Afromeals
REFRESH-INTERVAL;VALUE=DURATION:PT1H
X-Robots-Tag:noindex
X-PUBLISHED-TTL:PT1H
BEGIN:VTIMEZONE
TZID:UTC
BEGIN:STANDARD
TZOFFSETFROM:+0000
TZOFFSETTO:+0000
TZNAME:UTC
DTSTART:20220101T000000
END:STANDARD
END:VTIMEZONE
BEGIN:VEVENT
DTSTART;TZID=UTC:20230121T180000
DTEND;TZID=UTC:20230121T200000
DTSTAMP:20260423T074646
CREATED:20230102T154939Z
LAST-MODIFIED:20230106T222616Z
UID:4582-1674324000-1674331200@afromeals.com
SUMMARY:SOLD OUT!!! A TOUR OF AFRICA $75 per person (Dayton Location)
DESCRIPTION:A tour of Africa cooking class is an evening where you tour different regions of Africa\, cooking and enjoying delicious meals from the different regions in Africa. We take you to the North\, South\, East and Western parts of Africa. It is always a fun evening. \n\nChakalaka: A warm salad from South Africa\nPlantain Skewer\nChicken skewer seasoned with North African spice blend Harissa or East African Spice blend Berbere. Finished with Ethiopian spiced butter.\nNigerian Shrimp Fried Rice\nPuff puff (African Donuts) and chocolate sauce for dessert\n\nWe can accommodate dietary restrictions. Email and let us know about your dietary restrictions.    \nLocation: Findlay Kitchen: 305 W Main St\, Fairborn\, OH 45324 \n \nTime zone: Eastern time \nTerms and Conditions
URL:https://afromeals.com/event/a-tour-of-africa-75-per-person-dayton-location/
LOCATION:Spark Fairborn
CATEGORIES:cooking class,Cooking Classes,Date night,Kids classes,Private event
ATTACH;FMTTYPE=image/jpeg:https://afromeals.com/wp-content/uploads/2023/01/IMG_4460.jpg
END:VEVENT
END:VCALENDAR